BEGIN:VCALENDAR
VERSION:2.0
PRODID:-//hacksw/handcal//NONSGML v1.0//EN
BEGIN:VEVENT
SUMMARY:LA DER DES DERS a LA CLUSAZ
UID:86fcbdc0-23c5-4596-b1de-2b9a879579e3
DTSTART:20260426T070000Z
DTEND:20260426T190000Z
LOCATION:Localisation Massif de Balme  La Clusaz
CATEGORIES:Festif
STATUS:
DESCRIPTION:<p><span style="font-size:12pt;"><span><span
 style="font-family:Aptos, sans-serif;"><span
 style="font-size:10.5pt;"><span style="font-family:'Segoe UI Emoji',
 sans-serif;"><span
 style="color:#333333;">⛷️</span></span></span><span
 style="font-size:10.5pt;"><span style="font-family:Arial,
 sans-serif;"><span style="color:#333333;">"Venez vivre une fin de
 saison festive sur le Massif de Balme a La Clusaz.<br>
 L'Harmonie de
 la Clusaz, l'association des parents d'eleves et les conscrits 2006
 vous invitent au massif de Balme le 26 avril prochain pour cloturer
 les pistes ensemble et faire la fete toute la journee. Rejoignez-nous
 autour de notre bar ephemere installe specialement sur les pistes
 avec une ambiance musicale. En fin d'apres-midi, rendez-vous au
 sommet du Col de Balme pour le <strong><span
 style="font-family:Arial, sans-serif;">traditionnel slalom humain
 geant."</span></strong></span></span></span></span></span></span></p>
 
 <p> </p>
 
 <p><span
 style="font-size:12pt;"><span><span style="font-family:Aptos,
 sans-serif;"><span style="font-size:10.5pt;"><span
 style="font-family:'Segoe UI Emoji', sans-serif;"><span
 style="color:#333333;">⛷️🎵</span></span></span><span
 style="font-size:10.5pt;"><span style="font-family:Arial,
 sans-serif;"><span style="color:#333333;"><a
 href="https://urldefense.com/v3/__https:/www.laclusaz.com/agenda/la-der-des-ders/__;!!K62b8Q!J8j0xM4FVBuVvIbazVrqfN70-NcRlnR8NSAziuC6hhkwGfBRKvKZB1bKhyvGGPQIsMn3f36Y1e0eqKhHlT5N$"
 style="color:#0000FF;text-decoration:underline;" target="_blank"
 rel="noreferrer noopener">LA DER DES
 DERS</a></span></span></span></span></span></span></p>
 
 <p><span
 style="font-size:12pt;"><span><span style="font-family:Aptos,
 sans-serif;"> </span></span></span></p>
 
 <p><span
 style="font-size:12pt;"><span><span style="font-family:Aptos,
 sans-serif;"><span style="font-size:10.5pt;"><span
 style="font-family:'Segoe UI Emoji', sans-serif;"><span
 style="color:#333333;">⛷️</span></span></span><span
 style="font-size:10.5pt;"><span style="font-family:Arial,
 sans-serif;"><span style="color:#333333;">PROGRAMME<br>
 • 9h –
 12h : Accueil – Parking de Balme<br>
 • 11h – 16h : Bar en neige
 – Sommet du telesiege du Col de Balme<br>
 • 15h30 : La toute
 derniere montee du telesiege du Col de Balme<br>
 • 16h : La Der des
 Ders – Sommet du telesiege du Col de Balme<br>
 • 16h – 21h :
 Ouverture de la buvette – Parking de Balme<br>
 • 17h30 : Concert
 – Parking de Balme </span></span></span><span
 style="font-size:10.5pt;"><span style="font-family:'Segoe UI Emoji',
 sans-serif;"><span
 style="color:#333333;">🎵</span></span></span></span></span></span></p>
 
 <p> </p>
 
 <p> </p>
 
 <p><span
 style="font-size:12pt;"><span><span style="font-family:Aptos,
 sans-serif;"><span style="font-size:10.5pt;"><span
 style="font-family:'Segoe UI Emoji', sans-serif;"><span
 style="color:#333333;">⛷️</span></span></span><strong><span
 style="font-size:10.5pt;"><span style="font-family:Arial,
 sans-serif;"><span style="color:#333333;">Alors… qui se laisse
 tenter par cette der des ders
 ? </span></span></span></strong></span></span></span></p>
 
 <p>Pour
 recuperer la promotion sur le forfait de cette journee : <strong><a
 href="https://www.skiclubtefal.fr/en-savoir-plus/acheter-son-forfait-149005"
 target="_blank" rel="noreferrer
 noopener">FORFAIT</a></strong></p>
 
 <p> </p>
 
 <p> </p>
URL;VALUE=URI:https://www.skiclubtefal.fr/evenements/2026/04/26/la-der-des-ders-a-la-clusaz-2442012
END:VEVENT
END:VCALENDAR
